BEGIN:VCALENDAR
CALSCALE:GREGORIAN
VERSION:2.0
PRODID:-//Mozilla.org/NONSGML Mozilla Calendar V1.1//EN
BEGIN:VEVENT
CREATED:20220801T135859Z
LAST-MODIFIED:20220828T075925Z
DTSTAMP:20220828T075925Z
UID:68d42283-447e-4905-ac2c-62e5ed898866
SUMMARY:2. Nordic Real Assets Event 2022 - United Bankers Asset Management 
 - Save the date
DTSTART;TZID=Europe/Berlin:20221012T120000
DTEND;TZID=Europe/Berlin:20221012T160000
TRANSP:OPAQUE
LOCATION:Livestream and Onsite\, Steigenberger Frankfurter Hof\, Frankfurt/
 Main\, Germany
SEQUENCE:5
DESCRIPTION:For professional investors\, real assets have always been an in
 tegral part of the capital allocation. Especially in times of geopolitical 
 crises and inflation\, real assets are reliable sources of stable and diver
 sified cash flows.\n\nUnited Bankers is a Finland-based specialist asset ma
 nagement firm with its roots firmly in the Nordic region\, and has steadily
  increased its focus on real assets during the past decades. Investments in
  forestry – a specialist skill of UB - provide an attractive and stable a
 sset class that perfectly complements an institutional investment portfolio
 .\n\nLuncheon invitation\n\nParticipate successfully in the forestry value 
 chain\n\nAgenda and Speaker: https://www.altii.de/ub22-agenda
END:VEVENT
BEGIN:VTIMEZONE
TZID:Europe/Berlin
BEGIN:DAYLIGHT
TZOFFSETFROM:+0100
TZOFFSETTO:+0200
TZNAME:CEST
DTSTART:19700329T020000
RRULE:FREQ=YEARLY;BYMONTH=3;BYDAY=-1SU
END:DAYLIGHT
BEGIN:STANDARD
TZOFFSETFROM:+0200
TZOFFSETTO:+0100
TZNAME:CET
DTSTART:19701025T030000
RRULE:FREQ=YEARLY;BYMONTH=10;BYDAY=-1SU
END:STANDARD
END:VTIMEZONE
END:VCALENDAR