BEGIN:VCALENDAR
CALSCALE:GREGORIAN
VERSION:2.0
PRODID:-//IDN nextcloud.com//Calendar app 3.5.0//EN
BEGIN:VEVENT
CREATED:20220928T070329Z
DTSTAMP:20220928T071100Z
LAST-MODIFIED:20220928T071100Z
SEQUENCE:3
UID:36609d60-6da8-4d87-88f4-ecc7717c133d
DTSTART;TZID=Europe/Berlin:20221019T150000
DTEND;TZID=Europe/Berlin:20221019T160000
STATUS:CONFIRMED
SUMMARY:altii-event: Sicherheit in der Finanzindustrie
LOCATION:https://www.altii.de/sicherheit-in-der-finanzindustrie
DESCRIPTION:Krisenpotentiale erkennen und Resilienzen aufbauen: Was macht I
 hr Portfolio\, wenn das Licht ausgeht?\n\nDie Sicherheitsanforderungen für
  Asset Manager\, Vermögensverwalter und Serviceprovider im Finanzsektor st
 eigen rapide an\, und das unabhängig der Unternehmensgröße.\n\nDer Refer
 ent gibt einen Status über die aktuelle Lage und die gängigen Bedrohungsp
 otentiale in der Finanzindustrie. Anhand von konkreten Beispielen werden pr
 aktische Präventiv- und Verhaltensmaßnahmen erläutert und deren theoreti
 sche Umsetzung in Szenarien besprochen.\n\nDer fachliche Vortrag und die Pr
 äsentation wird durch eine Fragerunde abgeschlossen.
END:VEVENT
BEGIN:VTIMEZONE
TZID:Europe/Berlin
BEGIN:DAYLIGHT
TZOFFSETFROM:+0100
TZOFFSETTO:+0200
TZNAME:CEST
DTSTART:19700329T020000
RRULE:FREQ=YEARLY;BYMONTH=3;BYDAY=-1SU
END:DAYLIGHT
BEGIN:STANDARD
TZOFFSETFROM:+0200
TZOFFSETTO:+0100
TZNAME:CET
DTSTART:19701025T030000
RRULE:FREQ=YEARLY;BYMONTH=10;BYDAY=-1SU
END:STANDARD
END:VTIMEZONE
END:VCALENDAR
