BEGIN:VCALENDAR
CALSCALE:GREGORIAN
VERSION:2.0
PRODID:-//IDN nextcloud.com//Calendar app 3.5.2//EN
BEGIN:VEVENT
CREATED:20221115T144632Z
DTSTAMP:20221115T145637Z
LAST-MODIFIED:20221115T145637Z
SEQUENCE:5
UID:altii-event-384254a6-2345-443e-93c3-5f6606465441
DTSTART;TZID=Europe/Berlin:20221129T120000
DTEND;TZID=Europe/Berlin:20221129T160000
STATUS:CONFIRMED
SUMMARY:EIF Private Equity and Venture Capital Workshop\, Frankfurt/Main
LOCATION:On-Site: Tagungshaus Evangelische Akademie Frankfurt\, Römerberg
 9\, 60311 Frankfurt/Main\, Germany or Livestream: https://www.
 altii.de/eif202211fra-streaming
DESCRIPTION:We’ll discuss why private equity and venture capital is essen
 tial in today’s environment\, and how it adds stability and diversificati
 on to modern portfolios. Whether you currently have private equity or ventu
 re capital exposure or are interested in learning more about these asset cl
 asses\, please join us for an opportunity to hear more.\n\nWe will evaluate
  the current state of the market\, the opportunities and challenging while
 also discuss Impact Investing and ESG matters including how to measure actu
 al impact of your investments using the EIF’s unique impact performance m
 ethodology.\n\nThe workshop not only provides an overview and introduction
 to the world of private deals\, it is also a platform on which investors ca
 n exchange ideas with each other in a spirit of partnership.\n\nMaps: https
 ://goo.gl/maps/pcXxNYW1V66sgxFY9
END:VEVENT
BEGIN:VTIMEZONE
TZID:Europe/Berlin
BEGIN:DAYLIGHT
TZOFFSETFROM:+0100
TZOFFSETTO:+0200
TZNAME:CEST
DTSTART:19700329T020000
RRULE:FREQ=YEARLY;BYMONTH=3;BYDAY=-1SU
END:DAYLIGHT
BEGIN:STANDARD
TZOFFSETFROM:+0200
TZOFFSETTO:+0100
TZNAME:CET
DTSTART:19701025T030000
RRULE:FREQ=YEARLY;BYMONTH=10;BYDAY=-1SU
END:STANDARD
END:VTIMEZONE
END:VCALENDAR
