BEGIN:VCALENDAR
CALSCALE:GREGORIAN
VERSION:2.0
PRODID:-//IDN nextcloud.com//Calendar app 3.5.2//EN
BEGIN:VEVENT
CREATED:20221107T183711Z
DTSTAMP:20221107T184040Z
LAST-MODIFIED:20221107T184040Z
SEQUENCE:3
UID:ec292114-5ee2-445c-ae22-cfc2de206c41
DTSTART;TZID=Europe/Berlin:20221201T160000
DTEND;TZID=Europe/Berlin:20221201T164500
STATUS:CONFIRMED
SUMMARY:altii-event: Impress your Investor and go for it!
LOCATION:https://start.virtual-events.info/b/chr-2fd-n4a
DESCRIPTION:Im virtuellen Workshop wird gezeigt\, wie mit hochwertigen Inha
 lten und einer entsprechenden Veröffentlichungsstrategie\, effizient und d
 auerhaft Investoren beeindruckt werden.\n\nTechnischer Fortschritt\, digita
 ler Wettbewerb und gesellschaftlicher Wandel\, eröffnen dem Asset Manager 
 und dem Vermögensverwalter völlig neue Perspektiven\, eine\, nämlich sei
 ne einzigartige Geschichte zu erzählen.\n\nDie Aufmerksamkeit der Investor
 en ist ein knappes Gut. Es sind die hochwertigen\, die relevanten und die j
 ederzeit abrufbaren Inhalte\, die beeindrucken. Was macht diese Geschichten
  aus? Wie werden sie geschrieben? Welche Formate gehen viral?\n\n- Zielgrup
 penanalyse\n- Services und Themenanalyse\n- Formate\n- Publikation / Vertei
 lung\n- Call-to-Action\n- Feedback und Sales-Funnels\n\nDie einzelnen Modul
 e werden bei Bedarf im Workshop oder in zusätzlichen Einheiten vertieft.
END:VEVENT
BEGIN:VTIMEZONE
TZID:Europe/Berlin
BEGIN:DAYLIGHT
TZOFFSETFROM:+0100
TZOFFSETTO:+0200
TZNAME:CEST
DTSTART:19700329T020000
RRULE:FREQ=YEARLY;BYMONTH=3;BYDAY=-1SU
END:DAYLIGHT
BEGIN:STANDARD
TZOFFSETFROM:+0200
TZOFFSETTO:+0100
TZNAME:CET
DTSTART:19701025T030000
RRULE:FREQ=YEARLY;BYMONTH=10;BYDAY=-1SU
END:STANDARD
END:VTIMEZONE
END:VCALENDAR