BEGIN:VCALENDAR
PRODID:-//IDN nextcloud.com//Calendar app 3.5.2//EN
CALSCALE:GREGORIAN
VERSION:2.0
BEGIN:VEVENT
CREATED:20221208T194516Z
DTSTAMP:20221208T194559Z
LAST-MODIFIED:20221208T194559Z
SEQUENCE:2
UID:855e3171-b1e9-4734-9acb-78a412db733a-altii.de
DTSTART;TZID=Europe/Berlin:20230316T140000
DTEND;TZID=Europe/Berlin:20230316T170000
STATUS:CONFIRMED
SUMMARY:EB-SIM Roadshow "Energiewende 4.0"
LOCATION:Industrie-Club\, Elberfelder Str. 6\, 40213 Düsseldorf
DESCRIPTION:Aktuelle Informationen erhalten Sie unter: https://www.altii.de
 /ebsim-roadshow
END:VEVENT
BEGIN:VTIMEZONE
TZID:Europe/Berlin
BEGIN:DAYLIGHT
TZOFFSETFROM:+0100
TZOFFSETTO:+0200
TZNAME:CEST
DTSTART:19700329T020000
RRULE:FREQ=YEARLY;BYMONTH=3;BYDAY=-1SU
END:DAYLIGHT
BEGIN:STANDARD
TZOFFSETFROM:+0200
TZOFFSETTO:+0100
TZNAME:CET
DTSTART:19701025T030000
RRULE:FREQ=YEARLY;BYMONTH=10;BYDAY=-1SU
END:STANDARD
END:VTIMEZONE
END:VCALENDAR
