BEGIN:VCALENDAR
PRODID:-//IDN nextcloud.com//Calendar app 3.5.2//EN
CALSCALE:GREGORIAN
VERSION:2.0
BEGIN:VEVENT
CREATED:20221208T194705Z
DTSTAMP:20221208T194748Z
LAST-MODIFIED:20221208T194748Z
SEQUENCE:2
UID:d4b0ebda-bb33-423f-8d44-8e889039d1fd-altii.de
DTSTART;TZID=Europe/Berlin:20230322T140000
DTEND;TZID=Europe/Berlin:20230322T170000
STATUS:CONFIRMED
SUMMARY:EB-SIM Roadshow "Energiewende 4.0"
LOCATION:Hotel Hafen Hamburg\, Seewartenstraße 9\, 20459 Hamburg
DESCRIPTION:Aktuelle Informationen erhalten Sie unter: https://www.altii.de
 /ebsim-roadshow
END:VEVENT
BEGIN:VTIMEZONE
TZID:Europe/Berlin
BEGIN:DAYLIGHT
TZOFFSETFROM:+0100
TZOFFSETTO:+0200
TZNAME:CEST
DTSTART:19700329T020000
RRULE:FREQ=YEARLY;BYMONTH=3;BYDAY=-1SU
END:DAYLIGHT
BEGIN:STANDARD
TZOFFSETFROM:+0200
TZOFFSETTO:+0100
TZNAME:CET
DTSTART:19701025T030000
RRULE:FREQ=YEARLY;BYMONTH=10;BYDAY=-1SU
END:STANDARD
END:VTIMEZONE
END:VCALENDAR
