BEGIN:VCALENDAR
VERSION:2.0
PRODID:-//ical.marudot.com//iCal Event Maker
CALSCALE:GREGORIAN
BEGIN:VTIMEZONE
TZID:Europe/Berlin
LAST-MODIFIED:20201011T015911Z
TZURL:http://tzurl.org/zoneinfo-outlook/Europe/Berlin
X-LIC-LOCATION:Europe/Berlin
BEGIN:DAYLIGHT
TZNAME:CEST
TZOFFSETFROM:+0100
TZOFFSETTO:+0200
DTSTART:19700329T020000
RRULE:FREQ=YEARLY;BYMONTH=3;BYDAY=-1SU
END:DAYLIGHT
BEGIN:STANDARD
TZNAME:CET
TZOFFSETFROM:+0200
TZOFFSETTO:+0100
DTSTART:19701025T030000
RRULE:FREQ=YEARLY;BYMONTH=10;BYDAY=-1SU
END:STANDARD
END:VTIMEZONE
BEGIN:VEVENT
DTSTAMP:20230119T141146Z
UID:1674137419297-18287@ical.marudot.com
DTSTART;TZID=Europe/Berlin:20230215T140000
DTEND;TZID=Europe/Berlin:20230215T150000
SUMMARY:altii-event: Timberland investments – portfolio diversification and a hedge against inflation
URL:https://www.altii.de/ub-timber23-streaming
DESCRIPTION:Agenda: https://www.altii.de/ub-timber23-agenda\n\nUnited Bankers — a Finnish asset manager firmly rooted in the Nordic region — has been an expert in forestry investments and real asset manager.\n\nIn a 60-minute livestream\, three experts will comment on the following topics:\n\n- Overview of forestry investments in the Nordics\n- Deep dive into the asset class timber\, chances\, risks\, and diversification / inflation\n- ESG character of investments in timberland\, impact and sustainability
LOCATION:https://www.altii.de/ub-timber23-streaming
END:VEVENT
END:VCALENDAR