BEGIN:VCALENDAR
VERSION:2.0
PRODID:-//ical.marudot.com//iCal Event Maker
CALSCALE:GREGORIAN
BEGIN:VTIMEZONE
TZID:Europe/Berlin
LAST-MODIFIED:20201011T015911Z
TZURL:http://tzurl.org/zoneinfo-outlook/Europe/Berlin
X-LIC-LOCATION:Europe/Berlin
BEGIN:DAYLIGHT
TZNAME:CEST
TZOFFSETFROM:+0100
TZOFFSETTO:+0200
DTSTART:19700329T020000
RRULE:FREQ=YEARLY;BYMONTH=3;BYDAY=-1SU
END:DAYLIGHT
BEGIN:STANDARD
TZNAME:CET
TZOFFSETFROM:+0200
TZOFFSETTO:+0100
DTSTART:19701025T030000
RRULE:FREQ=YEARLY;BYMONTH=10;BYDAY=-1SU
END:STANDARD
END:VTIMEZONE
BEGIN:VEVENT
DTSTAMP:20230202T092659Z
UID:1675069843129-16110@ical.marudot.com
DTSTART;TZID=Europe/Berlin:20230308T110000
DTEND;TZID=Europe/Berlin:20230308T160000
SUMMARY:The European Investment Fund Private Equity and Venture Capital Workshop in Munich
URL:https://www.altii.de/eif23-muc-streaming
DESCRIPTION:The European Investment Fund looks forward to welcoming you at the on-site event in Munich\, which will be livestreamed from 12:00h CET (The channel opens 15 minutes before).\n\nLivestream: https://www.altii.de/eif23-muc-streaming\n\nAgenda: https://www.altii.de/eif23-muc-agenda
LOCATION:Mandarin Oriental München Neuturmstraße 1\, 80331 München\, Germany or Livestreaming
END:VEVENT
END:VCALENDAR