BEGIN:VCALENDAR
VERSION:2.0
PRODID:-//ical.marudot.com//iCal Event Maker
CALSCALE:GREGORIAN
BEGIN:VTIMEZONE
TZID:Europe/Berlin
LAST-MODIFIED:20231222T233358Z
TZURL:https://www.tzurl.org/zoneinfo-outlook/Europe/Berlin
X-LIC-LOCATION:Europe/Berlin
BEGIN:DAYLIGHT
TZNAME:CEST
TZOFFSETFROM:+0100
TZOFFSETTO:+0200
DTSTART:19700329T020000
RRULE:FREQ=YEARLY;BYMONTH=3;BYDAY=-1SU
END:DAYLIGHT
BEGIN:STANDARD
TZNAME:CET
TZOFFSETFROM:+0200
TZOFFSETTO:+0100
DTSTART:19701025T030000
RRULE:FREQ=YEARLY;BYMONTH=10;BYDAY=-1SU
END:STANDARD
END:VTIMEZONE
BEGIN:VEVENT
DTSTAMP:20240219T112258Z
UID:1708341713557-17803@ical.marudot.com
DTSTART;TZID=Europe/Berlin:20240314T120000
DTEND;TZID=Europe/Berlin:20240314T173000
SUMMARY:altii-Event: Crypto Assests Mastery
URL:https://www.altii.de/altiiWSC240314fra-streaming
DESCRIPTION:https://www.altii.de/altiiWSC240314fra-agenda\nDie einen sagen\, Crypto-Assets sind die Zukunft\, die anderen beklagen Volatilität und Betrug. Doch was ist die Wahrheit hinter den digitalen Vermögenswerten? Wie sieht die Zukunft dieser Assets aus und welche Bedeutung werden sie einnehmen? Erfahren Sie es beim altii-Event Crypto Assets Mastery vor Ort in Frankfurt/Main oder über unseren internationalen Livestream. 
LOCATION:Haus am Dom\, Domplatz 3\, 60322 Frankfurt/Main
END:VEVENT
END:VCALENDAR