BEGIN:VCALENDAR
VERSION:2.0
PRODID:-//ical.marudot.com//iCal Event Maker
CALSCALE:GREGORIAN
BEGIN:VTIMEZONE
TZID:Europe/Berlin
LAST-MODIFIED:20201011T015911Z
TZURL:http://tzurl.org/zoneinfo-outlook/Europe/Berlin
X-LIC-LOCATION:Europe/Berlin
BEGIN:DAYLIGHT
TZNAME:CEST
TZOFFSETFROM:+0100
TZOFFSETTO:+0200
DTSTART:19700329T020000
RRULE:FREQ=YEARLY;BYMONTH=3;BYDAY=-1SU
END:DAYLIGHT
BEGIN:STANDARD
TZNAME:CET
TZOFFSETFROM:+0200
TZOFFSETTO:+0100
DTSTART:19701025T030000
RRULE:FREQ=YEARLY;BYMONTH=10;BYDAY=-1SU
END:STANDARD
END:VTIMEZONE
BEGIN:VEVENT
DTSTAMP:20230428T165816Z
UID:1676658879458-55223@ical.marudot.com
DTSTART;TZID=Europe/Berlin:20230525T100000
DTEND;TZID=Europe/Berlin:20230525T150000
SUMMARY:EIF's Forum on Venture Capital and Private Equity in Zurich: The path to net-zero through impact and growth
URL:https://www.altii.de/eif23-zrh-agenda
DESCRIPTION:The European Investment Fund looks forward to welcoming you at the on-site event in Zurich from 10:00h on. The livestream is opening at 10:15h and the onsite events start 10:30h.\nAgenda: https://www.altii.de/eif23-zrh-agenda
LOCATION:Zunfthaus zur Waag\, Münsterhof 8\, 8001 Zurich\, Switzerland
END:VEVENT
END:VCALENDAR