BEGIN:VCALENDAR
PRODID:-//Mozilla.org/NONSGML Mozilla Calendar V1.1//EN
VERSION:2.0
BEGIN:VEVENT
LAST-MODIFIED:20230428T102723Z
DTSTAMP:20230428T102723Z
UID:431092e4-68f5-4b89-b400-fb897e300322@altii.de
SUMMARY:altii-Events: Lumyna Investor Day 2023
DTSTART:20230606T073000Z
DTEND:20230606T100000Z
CLASS:PUBLIC
DESCRIPTION;ALTREP="data:text/html,%3Cbody%3E%0A%3Cdiv%3E%3Cspan%20style%3D
 %22color%3A%20rgb(17%2C%2017%2C%2017)%3B%20font-family%3A%20Arial%2C%20Helv
 etica%2C%0A%20sans-serif%3B%20font-size%3A%2016px%3B%20font-style%3A%20norm
 al%3B%20%0Afont-variant-ligatures%3A%20normal%3B%20font-variant-caps%3A%20n
 ormal%3B%20font-weight%3A%20%0A400%3B%20letter-spacing%3A%20normal%3B%20orp
 hans%3A%202%3B%20text-align%3A%20center%3B%20%0Atext-indent%3A%200px%3B%20t
 ext-transform%3A%20none%3B%20white-space%3A%20normal%3B%20widows%3A%202%3B%
 20%0Aword-spacing%3A%200px%3B%20-webkit-text-stroke-width%3A%200px%3B%20bac
 kground-color%3A%20%0Argb(255%2C%20255%2C%20255)%3B%20text-decoration-style
 %3A%20initial%3B%20%0Atext-decoration-color%3A%20initial%3B%20display%3A%20
 inline%20!important%3B%20float%3A%20%0Anone%3B%22%3EEine%20Fr%C3%BChst%C3%B
 Ccksveranstaltung%20mit%20Lumyna%20und%20BlueCove%3C%2Fspan%3E%3C%2Fdiv%3E%
 0A%3Cdiv%3E%3Cbr%3E%0AVolatile%20M%C3%A4rkte%20offenbaren%20mehr%20denn%20j
 e%20die%20Chancen%20dynamischer%20und%20%0Awissenschaftlicher%20Ans%C3%A4tz
 e%20im%20professionellen%20Portfoliomanagement.%20Diese%0A%20Ans%C3%A4tze%2
 0bieten%20viele%20Vorteile%2C%20wenn%20sie%20richtig%20eingesetzt%20werden.
 %3C%2Fdiv%3E%0A%3Cbr%3EBenjamin%20Brodsky%20von%20BlueCove%20zeigt%2C%20wie
 %20Volatilit%C3%A4t%20hilft%2C%20im%20%0Aglobalen%20Creditmarkt%20stabiles%
 20Alpha%20durch%20marktneutrales%20Investieren%20zu%20%0Agenerieren%20und%2
 0warum%20dazu%20wissenschaftliche%20Methodik%20und%20Technologie%20%0Anotwe
 ndig%20sind.%3Cbr%3E%3Cbr%3EBenjamin%20Sauveur%20von%20Lumyna%20belegt%20mi
 t%20%0Ahistorischen%20Analysen%2C%20mit%20welchem%20Erfolg%20und%20Transpar
 enz%20regelbasierte%20%0AInvestmentans%C3%A4tze%20performen.%20Er%20weist%2
 0das%20am%20konkreten%20Beispiel%20einer%20%0Aregelbasierten%20Rohstoffstra
 tegie%20mit%20einer%20noch%20relativ%20unbekannte%20%0ARisikopr%C3%A4mie%20
 nach%2C%20die%20sich%20als%20%C3%A4u%C3%9Ferst%20persistente%20Alpha-Quelle
 %20%0Aerwiesen%20hat.%20Seit%202010%20kooperieren%20die%20Bank%20of%20Ameri
 ca%20und%20Lumyna%20auf%20%0Adiesem%20Gebiet.%3Cbr%3E%3Cbr%3EEine%20Registr
 ierung%20ist%20im%20Konferenzraum%20ab%2008%3A45h%20%0Am%C3%B6glich.%20Hier
 %20wird%20auch%20das%20Fr%C3%BChst%C3%BCck%20serviert.%3Cbr%3E%3Cbr%3EDer%2
 0Livestream%20%0Ageht%20gegen%2009%3A15h%20online%20und%20die%20Veranstaltu
 ng%20beginnt%20um%2009%3A30h.%20Sie%20%0Aerhalten%20eine%20Teilnahmebest%C3
 %A4tigung%20und%20die%20Zugangsdaten%20in%20einer%20extra%20%0AE-Mail.%3Cbr
 %3E%3Cbr%3E%3Ca%20class%3D%22moz-txt-link-freetext%22%20%0Ahref%3D%22https%
 3A%2F%2Fwww.altii.de%2Flum2306fra-agenda%22%3Ehttps%3A%2F%2Fwww.altii.de%2F
 lum2306fra-agenda%3C%2Fa%3E%3Cbr%3E%3Ca%0A%20class%3D%22moz-txt-link-freete
 xt%22%20%0Ahref%3D%22https%3A%2F%2Fwww.altii.de%2Flum2306fra-streaming%22%3
 Ehttps%3A%2F%2Fwww.altii.de%2Flum2306fra-streaming%3C%2Fa%3E%3Cbr%3E%3Cbr%3
 E%3Cbr%3E%3C%2Fbody%3E":Eine Frühstücksveranstaltung mit Lumyna und BlueC
 ove\n\nVolatile Märkte offenbaren mehr denn je die Chancen dynamischer und
 \nwissenschaftlicher Ansätze im professionellen Portfoliomanagement. Diese
  Ansätze\nbieten viele Vorteile\, wenn sie richtig eingesetzt werden.\n\nB
 enjamin Brodsky von BlueCove zeigt\, wie Volatilität hilft\, im globalen\n
 Creditmarkt stabiles Alpha durch marktneutrales Investieren zu generieren u
 nd\nwarum dazu wissenschaftliche Methodik und Technologie notwendig sind.\n
 \nBenjamin Sauveur von Lumyna belegt mit historischen Analysen\, mit welche
 m Erfolg\nund Transparenz regelbasierte Investmentansätze performen. Er we
 ist das am\nkonkreten Beispiel einer regelbasierten Rohstoffstrategie mit e
 iner noch relativ\nunbekannte Risikoprämie nach\, die sich als äußerst p
 ersistente Alpha-Quelle\nerwiesen hat. Seit 2010 kooperieren die Bank of Am
 erica und Lumyna auf diesem\nGebiet.\n\nEine Registrierung ist im Konferenz
 raum ab 08:45h möglich. Hier wird auch das\nFrühstück serviert.\n\nDer L
 ivestream geht gegen 09:15h online und die Veranstaltung beginnt um 09:30h.
 \nSie erhalten eine Teilnahmebestätigung und die Zugangsdaten in einer ext
 ra E-Mail.\n\nhttps://www.altii.de/lum2306fra-agenda\nhttps://www.altii.de/
 lum2306fra-streaming\n\n\n
LOCATION:Frankfurt Marriott Hotel\, Hamburger Alle 2\, 60486 Frankfurt/Main
 \, im Raum Gigabyte im 5. OG
SEQUENCE:1
X-MOZ-GENERATION:2
END:VEVENT
END:VCALENDAR
