BEGIN:VCALENDAR
VERSION:2.0
PRODID:-//ical.marudot.com//iCal Event Maker
CALSCALE:GREGORIAN
BEGIN:VTIMEZONE
TZID:Europe/Berlin
LAST-MODIFIED:20201011T015911Z
TZURL:http://tzurl.org/zoneinfo-outlook/Europe/Berlin
X-LIC-LOCATION:Europe/Berlin
BEGIN:DAYLIGHT
TZNAME:CEST
TZOFFSETFROM:+0100
TZOFFSETTO:+0200
DTSTART:19700329T020000
RRULE:FREQ=YEARLY;BYMONTH=3;BYDAY=-1SU
END:DAYLIGHT
BEGIN:STANDARD
TZNAME:CET
TZOFFSETFROM:+0200
TZOFFSETTO:+0100
DTSTART:19701025T030000
RRULE:FREQ=YEARLY;BYMONTH=10;BYDAY=-1SU
END:STANDARD
END:VTIMEZONE
BEGIN:VEVENT
DTSTAMP:20230514T165119Z
UID:1684083043714-12388@ical.marudot.com
DTSTART;TZID=Europe/Berlin:20230620T140000
DTEND;TZID=Europe/Berlin:20230620T160000
SUMMARY:"All Roads"-Workshop 2023 - Wien
URL:https://www.altii.de/LOM2306VIE-streaming
DESCRIPTION:"All Roads" - Das Kerninvestment des Lombard Odier Pensionsfunds (Schweiz) im Detail vom verantwortlichen Manager erklärt.\n\nAgenda: https://www.altii.de/LOM2306VIE-agenda
LOCATION:Vienna Marriott Hotel\, Parkring 12A\, 1010 Wien\, Austria
END:VEVENT
END:VCALENDAR
