BEGIN:VCALENDAR
VERSION:2.0
PRODID:-//ical.marudot.com//iCal Event Maker
CALSCALE:GREGORIAN
BEGIN:VTIMEZONE
TZID:Europe/Berlin
LAST-MODIFIED:20201011T015911Z
TZURL:http://tzurl.org/zoneinfo-outlook/Europe/Berlin
X-LIC-LOCATION:Europe/Berlin
BEGIN:DAYLIGHT
TZNAME:CEST
TZOFFSETFROM:+0100
TZOFFSETTO:+0200
DTSTART:19700329T020000
RRULE:FREQ=YEARLY;BYMONTH=3;BYDAY=-1SU
END:DAYLIGHT
BEGIN:STANDARD
TZNAME:CET
TZOFFSETFROM:+0200
TZOFFSETTO:+0100
DTSTART:19701025T030000
RRULE:FREQ=YEARLY;BYMONTH=10;BYDAY=-1SU
END:STANDARD
END:VTIMEZONE
BEGIN:VEVENT
DTSTAMP:20230810T094207Z
UID:1691660492930-23081@ical.marudot.com
DTSTART;TZID=Europe/Berlin:20230901T110000
DTEND;TZID=Europe/Berlin:20230901T113000
SUMMARY:How to win professional investors today!
URL:https://www.altii.de/altiiLG2309VE-information
DESCRIPTION:In this virtual event\, we will address common marketing mistakes in the asset management industry\, discuss the shifting landscape in institutional sales and introduce solutions as well as lead generation capabilities with use cases from previous events.\n\nhttps://www.altii.de/altiiLG2309VE-streaming
LOCATION:https://www.altii.de/altiiLG2309VE-streaming
END:VEVENT
END:VCALENDAR