BEGIN:VCALENDAR
VERSION:2.0
PRODID:-//ical.marudot.com//iCal Event Maker
CALSCALE:GREGORIAN
BEGIN:VTIMEZONE
TZID:Europe/Berlin
LAST-MODIFIED:20230407T050750Z
TZURL:https://www.tzurl.org/zoneinfo-outlook/Europe/Berlin
X-LIC-LOCATION:Europe/Berlin
BEGIN:DAYLIGHT
TZNAME:CEST
TZOFFSETFROM:+0100
TZOFFSETTO:+0200
DTSTART:19700329T020000
RRULE:FREQ=YEARLY;BYMONTH=3;BYDAY=-1SU
END:DAYLIGHT
BEGIN:STANDARD
TZNAME:CET
TZOFFSETFROM:+0200
TZOFFSETTO:+0100
DTSTART:19701025T030000
RRULE:FREQ=YEARLY;BYMONTH=10;BYDAY=-1SU
END:STANDARD
END:VTIMEZONE
BEGIN:VEVENT
DTSTAMP:20230906T074517Z
UID:1693986255285-75142@ical.marudot.com
DTSTART;TZID=Europe/Berlin:20231010T140000
DTEND;TZID=Europe/Berlin:20231010T170000
SUMMARY:altii Roundtable: Sustainability & Biodiversity
URL:https://www.altii.de/rt2310-streaming
DESCRIPTION:The high-profile panellists at this altii-event will discuss the following topics in the context of sustainability and biodiversity:\n\n- Sustainable asset allocation for institutional investors in DACH\n- Legal requirements and the danger of greenwashing\n- The importance of transparency\n- The technical aspects of the underlying concepts\n- The importance of biodiversity as a holistic approach\n\nAgenda and latest updates: https://www.altii.de/rt2310-agenda
LOCATION:Haus am Dom\, Domplatz 3\, 60311 Frankfurt am Main
END:VEVENT
END:VCALENDAR