BEGIN:VCALENDAR
VERSION:2.0
PRODID:-//ical.marudot.com//iCal Event Maker
CALSCALE:GREGORIAN
BEGIN:VTIMEZONE
TZID:Europe/Berlin
LAST-MODIFIED:20230407T050750Z
TZURL:https://www.tzurl.org/zoneinfo-outlook/Europe/Berlin
X-LIC-LOCATION:Europe/Berlin
BEGIN:DAYLIGHT
TZNAME:CEST
TZOFFSETFROM:+0100
TZOFFSETTO:+0200
DTSTART:19700329T020000
RRULE:FREQ=YEARLY;BYMONTH=3;BYDAY=-1SU
END:DAYLIGHT
BEGIN:STANDARD
TZNAME:CET
TZOFFSETFROM:+0200
TZOFFSETTO:+0100
DTSTART:19701025T030000
RRULE:FREQ=YEARLY;BYMONTH=10;BYDAY=-1SU
END:STANDARD
END:VTIMEZONE
BEGIN:VEVENT
DTSTAMP:20231023T085853Z
UID:1698051348898-21922@ical.marudot.com
DTSTART;TZID=Europe/Berlin:20231114T113000
DTEND;TZID=Europe/Berlin:20231114T140000
SUMMARY:Target Net Zero Roadshow Frankfurt/Main
URL:https://www.altii.de/loim2311-agenda
DESCRIPTION:Join us for this extraordinary event from Lombard Odier Investment Managers that explores the captivating world of climate transition and rethinking the path to net-zero. With Nicolas Mieszkals\, a visionary speaker\, interactive discussions\, and real-world success stories\, we will unravel the secrets to profitable and Target Net Zero investing.\n\nhttps://www.altii.de/loim2311-agenda
LOCATION:Lombard Odier Asset Management (Europe) Limited\, Frankfurt Branch\, Reuterweg 49\, 60323 Frankfurt am Main
END:VEVENT
END:VCALENDAR