BEGIN:VCALENDAR
VERSION:2.0
PRODID:-//ical.marudot.com//iCal Event Maker
CALSCALE:GREGORIAN
BEGIN:VTIMEZONE
TZID:Europe/Berlin
LAST-MODIFIED:20230407T050750Z
TZURL:https://www.tzurl.org/zoneinfo-outlook/Europe/Berlin
X-LIC-LOCATION:Europe/Berlin
BEGIN:DAYLIGHT
TZNAME:CEST
TZOFFSETFROM:+0100
TZOFFSETTO:+0200
DTSTART:19700329T020000
RRULE:FREQ=YEARLY;BYMONTH=3;BYDAY=-1SU
END:DAYLIGHT
BEGIN:STANDARD
TZNAME:CET
TZOFFSETFROM:+0200
TZOFFSETTO:+0100
DTSTART:19701025T030000
RRULE:FREQ=YEARLY;BYMONTH=10;BYDAY=-1SU
END:STANDARD
END:VTIMEZONE
BEGIN:VEVENT
DTSTAMP:20231123T191558Z
UID:1700766926258-65517@ical.marudot.com
DTSTART;TZID=Europe/Berlin:20231215T153000
DTEND;TZID=Europe/Berlin:20231215T170000
SUMMARY:LUMYNA - Zinsen vs Alternatives - welche Strategien steigen in den Ring?
URL:https://www.altii.de/LUM2312FRA-streaming
DESCRIPTION:Die altii-events Onsite Arena im Frankfurt Marriott und Livetream\n\nDie Wiederkehr der Zinsen im Jahr 2023 ist sicherlich der härteste Wettbewerber für Alternatives gewesen. In der Anlagewelt der "Alternativen Assets" stechen zwei Strategien besonders positiv heraus:\n\n- Dynamische Asset-Allocation\n- Commodities - marktneutrale Commodity Strategie\n\nUnsere Experten aus Dallas/TX\, London und Frankfurt erläutern die aktuelle Situation bei Alternatives und geben im Schlagabtauschs einen Marktausblick.
LOCATION:Frankfurt Marriott Hotel Hamburger Allee 2\, 60486 Frankfurt/Main
END:VEVENT
END:VCALENDAR
