BEGIN:VCALENDAR
VERSION:2.0
PRODID:-//ical.marudot.com//iCal Event Maker
CALSCALE:GREGORIAN
BEGIN:VTIMEZONE
TZID:Europe/Berlin
LAST-MODIFIED:20231222T233358Z
TZURL:https://www.tzurl.org/zoneinfo-outlook/Europe/Berlin
X-LIC-LOCATION:Europe/Berlin
BEGIN:DAYLIGHT
TZNAME:CEST
TZOFFSETFROM:+0100
TZOFFSETTO:+0200
DTSTART:19700329T020000
RRULE:FREQ=YEARLY;BYMONTH=3;BYDAY=-1SU
END:DAYLIGHT
BEGIN:STANDARD
TZNAME:CET
TZOFFSETFROM:+0200
TZOFFSETTO:+0100
DTSTART:19701025T030000
RRULE:FREQ=YEARLY;BYMONTH=10;BYDAY=-1SU
END:STANDARD
END:VTIMEZONE
BEGIN:VEVENT
DTSTAMP:20240212T065059Z
UID:altiiRTS2405fra1@altii.de
DTSTART;TZID=Europe/Berlin:20240513T130000
DTEND;TZID=Europe/Berlin:20240513T180000
SUMMARY:altii Roundtable Sustainability\, Biodiversity and Planetary Health
URL:https://www.altii.de/altiiRTS2405fra-streaming
DESCRIPTION:https://www.altii.de/altiiRTS2405fra-agenda\nhttps://www.altii.de/altiiRTS2405fra-registration
LOCATION:Evangelische Akademie Frankfurt\, Römerberg 9\, 60311 Frankfurt am Main\, Germany
END:VEVENT
END:VCALENDAR
