BEGIN:VCALENDAR
VERSION:2.0
PRODID:-//ical.marudot.com//iCal Event Maker
CALSCALE:GREGORIAN
BEGIN:VTIMEZONE
TZID:Europe/Berlin
LAST-MODIFIED:20240422T053451Z
TZURL:https://www.tzurl.org/zoneinfo-outlook/Europe/Berlin
X-LIC-LOCATION:Europe/Berlin
BEGIN:DAYLIGHT
TZNAME:CEST
TZOFFSETFROM:+0100
TZOFFSETTO:+0200
DTSTART:19700329T020000
RRULE:FREQ=YEARLY;BYMONTH=3;BYDAY=-1SU
END:DAYLIGHT
BEGIN:STANDARD
TZNAME:CET
TZOFFSETFROM:+0200
TZOFFSETTO:+0100
DTSTART:19701025T030000
RRULE:FREQ=YEARLY;BYMONTH=10;BYDAY=-1SU
END:STANDARD
END:VTIMEZONE
BEGIN:VEVENT
DTSTAMP:20240926T065816Z
UID:1727333789316-96306@ical.marudot.com
DTSTART;TZID=Europe/Berlin:20241105T153000
DTEND;TZID=Europe/Berlin:20241105T180000
SUMMARY:altii-events - Impact Investing: Rendite und Wirkung rund um den Globus
URL:https://www.altii.de/glsdeg-2411-agenda-frankfurt
DESCRIPTION:Im Mittelpunkt der Expertenrunde steht die zentrale Frage: Wie lassen sich attraktive finanzielle Renditen mit positiven ökologischen und sozialen Wirkungen kombinieren? Die Teilnehmenden erhalten praxisorientierte Einblicke in die wachsende Relevanz nachhaltiger Investments – sowohl in etablierten Märkten als auch in aufstrebenden Schwellenländern.
LOCATION:Livestream und Evangelische Akademie Frankfurt\, Römerberg 9\, 60311 Frankfurt am Main
END:VEVENT
END:VCALENDAR