BEGIN:VCALENDAR
VERSION:2.0
PRODID:-//ical.marudot.com//iCal Event Maker
CALSCALE:GREGORIAN
BEGIN:VTIMEZONE
TZID:Europe/Berlin
LAST-MODIFIED:20240422T053451Z
TZURL:https://www.tzurl.org/zoneinfo-outlook/Europe/Berlin
X-LIC-LOCATION:Europe/Berlin
BEGIN:DAYLIGHT
TZNAME:CEST
TZOFFSETFROM:+0100
TZOFFSETTO:+0200
DTSTART:19700329T020000
RRULE:FREQ=YEARLY;BYMONTH=3;BYDAY=-1SU
END:DAYLIGHT
BEGIN:STANDARD
TZNAME:CET
TZOFFSETFROM:+0200
TZOFFSETTO:+0100
DTSTART:19701025T030000
RRULE:FREQ=YEARLY;BYMONTH=10;BYDAY=-1SU
END:STANDARD
END:VTIMEZONE
BEGIN:VEVENT
DTSTAMP:20241022T053049Z
UID:1729575014476-21841@ical.marudot.com
DTSTART;TZID=Europe/Berlin:20241118T133000
DTEND;TZID=Europe/Berlin:20241118T180000
SUMMARY:altii-event: Kinderrechte\, Generationsgerechtigkeit und ethische Verantwortung
URL:https://www.altii.de/kinder-agenda
DESCRIPTION:Nachhaltigkeit und Impactstrategien als Schlüssel für eine zukunftsfähige Kapitalanlage\n\nErleben Sie eine zukunftsweisende Veranstaltung\, bei der führende Finanzexperten den Status Quo der Integration von Kinderrechten in nachhaltige Generationenstrategien diskutieren. Kurz vor dem Tag der Kinderrechte versammeln sich führende Finanzinstitute und renommierte NGOs in Berlin. In Keynotes und Panels beleuchten Experten\, wie Kinderrechte in Unternehmensrichtlinien und Investmentfonds umgesetzt werden können. Seien Sie dabei und setzen Sie gemeinsam ein Zeichen für eine verantwortungsvolle und gerechte Finanzwelt!
LOCATION:Hotel Rossi\, Lehrter Str. 66\, 10557 Berlin
END:VEVENT
END:VCALENDAR