BEGIN:VCALENDAR
VERSION:2.0
PRODID:-//ical.marudot.com//iCal Event Maker
CALSCALE:GREGORIAN
BEGIN:VTIMEZONE
TZID:Europe/Berlin
LAST-MODIFIED:20240422T053451Z
TZURL:https://www.tzurl.org/zoneinfo-outlook/Europe/Berlin
X-LIC-LOCATION:Europe/Berlin
BEGIN:DAYLIGHT
TZNAME:CEST
TZOFFSETFROM:+0100
TZOFFSETTO:+0200
DTSTART:19700329T020000
RRULE:FREQ=YEARLY;BYMONTH=3;BYDAY=-1SU
END:DAYLIGHT
BEGIN:STANDARD
TZNAME:CET
TZOFFSETFROM:+0200
TZOFFSETTO:+0100
DTSTART:19701025T030000
RRULE:FREQ=YEARLY;BYMONTH=10;BYDAY=-1SU
END:STANDARD
END:VTIMEZONE
BEGIN:VEVENT
DTSTAMP:20250319T103307Z
UID:1742380356331-17335@ical.marudot.com
DTSTART;TZID=Europe/Berlin:20250324T163000
DTEND;TZID=Europe/Berlin:20250324T190000
SUMMARY:Impact Investing Forum - Berlin - Livestreaming
URL:https://www.altii.de/impact-forum-streaming
DESCRIPTION:Gemeinsam mit führenden institutionellen Investoren und renommierten Branchenführern diskutieren wir globale & zukunftsorientierte Chancen im Bereich Impact Investing in den Private Markets.\n\nhttps://www.altii.de/impact-forum-streaming\n
LOCATION:https://www.altii.de/impact-forum-streaming
END:VEVENT
END:VCALENDAR